Workbook
Name CenaCelkem: #REF!
Name CenaCelkemBezDPH: #REF!
Name cisloobjektu: #REF!
Name CisloRozpoctu: '[1]Krycí list'!$C$2
Name cislostavby: '[1]Krycí list'!$A$7
Name CisloStavebnihoRozpoctu: #REF!
Name dadresa: #REF!
Name dmisto: #REF!
Name DPHSni: #REF!
Name DPHZakl: #REF!
Name Mena: #REF!
Name MistoStavby: #REF!
Name nazevobjektu: #REF!
Name NazevRozpoctu: '[1]Krycí list'!$D$2
Name nazevstavby: '[1]Krycí list'!$C$7
Name NazevStavebnihoRozpoctu: #REF!
Name oadresa: #REF!
Name padresa: #REF!
Name pdic: #REF!
Name pico: #REF!
Name pmisto: #REF!
Name PocetMJ: #REF!
Name PocetMJ: #REF!
Name PocetMJ: #REF!
Name PocetMJ: #REF!
Name PocetMJ: #REF!
Name PocetMJ: #REF!
Name PocetMJ: #REF!
Name PocetMJ: #REF!
Name PocetMJ: #REF!
Name PoptavkaID: #REF!
Name pPSC: #REF!
Name Projektant: #REF!
Name SazbaDPH1: '[1]Krycí list'!$C$30
Name SazbaDPH2: '[1]Krycí list'!$C$32
Name SloupecCC: #REF!
Name SloupecCC: #REF!
Name SloupecCC: #REF!
Name SloupecCC: #REF!
Name SloupecCC: #REF!
Name SloupecCC: #REF!
Name SloupecCC: #REF!
Name SloupecCC: #REF!
Name SloupecCC: #REF!
Name SloupecCisloPol: #REF!
Name SloupecCisloPol: #REF!
Name SloupecCisloPol: #REF!
Name SloupecCisloPol: #REF!
Name SloupecCisloPol: #REF!
Name SloupecCisloPol: #REF!
Name SloupecCisloPol: #REF!
Name SloupecCisloPol: #REF!
Name SloupecCisloPol: #REF!
Name SloupecJC: #REF!
Name SloupecJC: #REF!
Name SloupecJC: #REF!
Name SloupecJC: #REF!
Name SloupecJC: #REF!
Name SloupecJC: #REF!
Name SloupecJC: #REF!

Sheet VzorPolozky
A1: Položkový rozpočet
A2: S:
A3: O:
A4: R:

Sheet Rekapitulace
A1: Název dodavatele
A2: Sídlo
A3: IČ
A5: Souhrn položek | B5: Cena celkem v Kč bez DPH | C5: Cena celkem v Kč vč. DPH
A6: ZŠ Karla IV. - jazyková učebna | B6: ='ZŠ KIV - jazyková učebna'!E11 -> 0 | C6: ='ZŠ KIV - jazyková učebna'!G11 -> 0
A7: ZŠ Karla IV. - počítačová učebna | B7: ='ZŠ KIV - PC uč.'!E13 -> 0 | C7: ='ZŠ KIV - PC uč.'!G13 -> 0
A8: ZŠ Karla IV. - učebna přírodních věd | B8: ='ZŠ KIV - uč. přírodních'!E12 -> 0 | C8: ='ZŠ KIV - uč. přírodních'!G12 -> 0
A9: ZŠ Karla IV. - kabinet | B9: ='ZŠ KIV - kabinet'!E9 -> 0 | C9: ='ZŠ KIV - kabinet'!G9 -> 0
A10: ZŠ Karlovarská - učebna dílen | B10: ='ZŠ Kar - dílny'!E13 -> 0 | C10: ='ZŠ Kar - dílny'!G13 -> 0
A11: ZŠ Karlovarská - učebna přírodních věd | B11: ='ZŠ Kar - uč. přírodních'!E21 -> 0 | C11: ='ZŠ Kar - uč. přírodních'!G21 -> 0
A12: ZŠ Karlovarská - učebna informatiky | B12: ='ZŠ Kar - uč. informatiky'!E15 -> 0 | C12: ='ZŠ Kar - uč. informatiky'!G15 -> 0
A13: ZŠ Karlovarská - učebna cizích jazyků | B13: ='ZŠ Kar - jazyková učebna'!E15 -> 0 | C13: ='ZŠ Kar - jazyková učebna'!G15 -> 0
A14: Celkem | B14: =SUM(B6:B13) -> 0 | C14: =SUM(C6:C13) -> 0

Sheet ZŠ KIV - jazyková učebna
A1: ZŠ Karla IV. - Nábytek jazyková učebna
A3: Ozn. | B3: Popis | C3: Počet ks | D3: cena v Kč bez DPH | F3: cena v Kč vč. DPH
D4: kč/ks | E4: celkem | F4: kč/ks | G4: celkem
A5: 1 | B5: Katedra do jazykové učebny | C5: 1 | E5: =C5*D5 -> 0 | F5: =ROUND(D5*1.21,2) -> 0 | G5: =F5*C5 -> 0
A6: 2 | B6: PC Stůl žákovský | C6: 8 | E6: =C6*D6 -> 0 | F6: =ROUND(D6*1.21,2) -> 0 | G6: =F6*C6 -> 0
A7: 3 | B7: Skříň vysoká, částečně prosklená s dvířky | C7: 4 | E7: =C7*D7 -> 0 | F7: =ROUND(D7*1.21,2) -> 0 | G7: =F7*C7 -> 0
A8: 4 | B8: Nástěnka | C8: 1 | E8: =C8*D8 -> 0 | F8: =ROUND(D8*1.21,2) -> 0 | G8: =F8*C8 -> 0
A9: 5 | B9: Nástěnný panel na sluchátka | C9: 1 | E9: =C9*D9 -> 0 | F9: =ROUND(D9*1.21,2) -> 0 | G9: =F9*C9 -> 0
A10: 6 | B10: Zdroj pro elektromagnetické zámky v žákovských stolech. | C10: 3 | E10: =C10*D10 -> 0 | F10: =ROUND(D10*1.21,2) -> 0 | G10: =F10*C10 -> 0
B11: Celkem | E11: =SUM(E5:E10) -> 0 | G11: =SUM(G5:G10) -> 0
B13: Ceny všech položek zahrnují rovněž dopravu, vynášku a instalaci nábytku bez elektromontáže PC stolů.

Sheet ZŠ KIV - PC uč.
A1: ZŠ Karla IV. - Nábytek počítačová učebna
A3: Ozn. | B3: Popis | C3: Počet ks | D3: cena v Kč bez DPH | F3: cena v Kč vč. DPH
D4: kč/ks | E4: celkem | F4: kč/ks | G4: celkem
A5: 1 | B5: Rohová katedra | C5: 1 | E5: =C5*D5 -> 0 | F5: =ROUND(D5*1.21,2) -> 0 | G5: =F5*C5 -> 0
A6: 2 | B6: PC Stůl žákovský, jednomístný | C6: 26 | E6: =C6*D6 -> 0 | F6: =ROUND(D6*1.21,2) -> 0 | G6: =F6*C6 -> 0
A7: 3 | B7: PC Stůl žákovský, dvoumístný | C7: 1 | E7: =C7*D7 -> 0 | F7: =ROUND(D7*1.21,2) -> 0 | G7: =F7*C7 -> 0
A8: 4 | B8: Kabelový žlab pro lavici 1000 mm | C8: 1 | E8: =C8*D8 -> 0 | F8: =ROUND(D8*1.21,2) -> 0 | G8: =F8*C8 -> 0
A9: 5 | B9: Kabelový žlab pro lavici 880 m | C9: 26 | E9: =C9*D9 -> 0 | F9: =ROUND(D9*1.21,2) -> 0 | G9: =F9*C9 -> 0
A10: 6 | B10: Držák PC | C10: 27 | E10: =C10*D10 -> 0 | F10: =ROUND(D10*1.21,2) -> 0 | G10: =F10*C10 -> 0
A11: 7 | B11: Nástěnka | C11: 2 | E11: =C11*D11 -> 0 | F11: =ROUND(D11*1.21,2) -> 0 | G11: =F11*C11 -> 0
A12: 8 | B12: Nástěnný panel na sluchátka | C12: 1 | E12: =C12*D12 -> 0 | F12: =ROUND(D12*1.21,2) -> 0 | G12: =F12*C12 -> 0
B13: Celkem | E13: =SUM(E5:E12) -> 0 | G13: =SUM(G5:G12) -> 0
B15: Ceny všech položek zahrnují rovněž dopravu, vynášku a instalaci nábytku bez elektromontáže PC stolů.

Sheet ZŠ KIV - uč. přírodních
A1: ZŠ Karla IV. - Nábytek učebna přírodních věd
A3: Ozn. | B3: Popis | C3: Počet ks | D3: cena v Kč bez DPH | F3: cena v Kč vč. DPH
D4: kč/ks | E4: celkem | F4: kč/ks | G4: celkem
A5: 1 | B5: Demonstrační stůl pro pedagoga | C5: 1 | E5: =C5*D5 -> 0 | F5: =ROUND(D5*1.21,2) -> 0 | G5: =F5*C5 -> 0
A6: 2 | B6: Stůl žákovský mobilní, dvoumístný | C6: 1 | E6: =C6*D6 -> 0 | F6: =ROUND(D6*1.21,2) -> 0 | G6: =F6*C6 -> 0
A7: 3 | B7: Stůl žákovský mobilní, jednomístný | C7: 31 | E7: =C7*D7 -> 0 | F7: =ROUND(D7*1.21,2) -> 0 | G7: =F7*C7 -> 0
A8: 4 | B8: Skříň vysoká, částečně prosklená s dvířky | C8: 4 | E8: =C8*D8 -> 0 | F8: =ROUND(D8*1.21,2) -> 0 | G8: =F8*C8 -> 0
A9: 5 | B9: Nástavec skříňový | C9: 3 | E9: =C9*D9 -> 0 | F9: =ROUND(D9*1.21,2) -> 0 | G9: =F9*C9 -> 0
A10: 6 | B10: Žebřík interiérový | C10: 1 | E10: =C10*D10 -> 0 | F10: =ROUND(D10*1.21,2) -> 0 | G10: =F10*C10 -> 0
A11: 7 | B11: Nástěnka | C11: 2 | E11: =C11*D11 -> 0 | F11: =ROUND(D11*1.21,2) -> 0 | G11: =F11*C11 -> 0
B12: Celkem | E12: =SUM(E5:E11) -> 0 | G12: =SUM(G5:G11) -> 0
B14: Ceny všech položek zahrnují rovněž dopravu, vynášku a instalaci nábytku bez elektromontáže PC stolů.

Sheet ZŠ KIV - kabinet
A1: ZŠ Karla IV. - Nábytek kabinet
A3: Ozn. | B3: Popis | C3: Počet ks | D3: cena v Kč bez DPH | F3: cena v Kč vč. DPH
D4: kč/ks | E4: celkem | F4: kč/ks | G4: celkem
A5: 1 | B5: Skříň vysoká s policemi | C5: 2 | E5: =C5*D5 -> 0 | F5: =ROUND(D5*1.21,2) -> 0 | G5: =F5*C5 -> 0
A6: 2 | B6: Skříň vysoká s mezipříčkou a policemi | C6: 2 | E6: =C6*D6 -> 0 | F6: =ROUND(D6*1.21,2) -> 0 | G6: =F6*C6 -> 0
A7: 3 | B7: Nástavec skříňový | C7: 4 | E7: =C7*D7 -> 0 | F7: =ROUND(D7*1.21,2) -> 0 | G7: =F7*C7 -> 0
A8: 4 | B8: Žebřík interiérový | C8: 1 | E8: =C8*D8 -> 0 | F8: =ROUND(D8*1.21,2) -> 0 | G8: =F8*C8 -> 0
B9: Celkem | E9: =SUM(E5:E8) -> 0 | G9: =SUM(G5:G8) -> 0
B11: Ceny všech položek zahrnují rovněž dopravu, vynášku a instalaci nábytku bez elektromontáže PC stolů.

Sheet ZŠ Kar - dílny
A1: ZŠ Karlovarská - učebna dílen
A3: Ozn. | B3: Popis | C3: Počet ks | D3: cena v Kč bez DPH | F3: cena v Kč vč. DPH
D4: kč/ks | E4: celkem | F4: kč/ks | G4: celkem
A5: 1 | B5: Dílenský stůl | C5: 17 | E5: =C5*D5 -> 0 | F5: =ROUND(D5*1.21,2) -> 0 | G5: =F5*C5 -> 0
A6: 2 | B6: Učitelská katedra | C6: 1 | E6: =C6*D6 -> 0 | F6: =ROUND(D6*1.21,2) -> 0 | G6: =F6*C6 -> 0
A7: 3 | B7: Závěsný panel na nářadí + sada držáků | C7: 2 | E7: =C7*D7 -> 0 | F7: =ROUND(D7*1.21,2) -> 0 | G7: =F7*C7 -> 0
A8: 4 | B8: Kovový regál | C8: 6 | E8: =C8*D8 -> 0 | F8: =ROUND(D8*1.21,2) -> 0 | G8: =F8*C8 -> 0
A9: 5 | B9: Vestavěná skříň | C9: 1 | E9: =C9*D9 -> 0 | F9: =ROUND(D9*1.21,2) -> 0 | G9: =F9*C9 -> 0
A10: 6 | B10: Vysouvací krabice | C10: 17 | E10: =C10*D10 -> 0 | F10: =ROUND(D10*1.21,2) -> 0 | G10: =F10*C10 -> 0
A11: 7 | B11: Kabelová lišta | C11: 14 | E11: =C11*D11 -> 0 | F11: =ROUND(D11*1.21,2) -> 0 | G11: =F11*C11 -> 0
A12: 8 | B12: Kabelová lišta (po 1m) | C12: 12 | E12: =C12*D12 -> 0 | F12: =ROUND(D12*1.21,2) -> 0 | G12: =F12*C12 -> 0
B13: Celkem | E13: =SUM(E5:E12) -> 0 | G13: =SUM(G5:G12) -> 0
B15: Ceny všech položek zahrnují rovněž dopravu, vynášku a instalaci nábytku včetně zaškolení a zprovoznění.

Sheet ZŠ Kar -  uč. přírodních
A1: ZŠ Karlovarská - učebna přírodních věd
A3: Ozn. | B3: Popis | C3: Počet ks | D3: cena v Kč bez DPH | F3: cena v Kč vč. DPH
D4: kč/ks | E4: celkem | F4: kč/ks | G4: celkem
A5: 1 | B5: Demonstrační stůl | C5: 1 | E5: =C5*D5 -> 0 | F5: =ROUND(D5*1.21,2) -> 0 | G5: =F5*C5 -> 0
A6: 2 | B6: Laboratorní bezodtahová digestoř na pojízdné skříňce s dvířky | C6: 1 | E6: =C6*D6 -> 0 | F6: =ROUND(D6*1.21,2) -> 0 | G6: =F6*C6 -> 0
A7: 3 | B7: Stůl žákovský počítačový, trojmístný | C7: 10 | E7: =C7*D7 -> 0 | F7: =ROUND(D7*1.21,2) -> 0 | G7: =F7*C7 -> 0
A8: 4 | B8: Stůl žákovský počítačový, jednomístný | C8: 1 | E8: =C8*D8 -> 0 | F8: =ROUND(D8*1.21,2) -> 0 | G8: =F8*C8 -> 0
A9: 5 | B9: Středový tunel s dřezy | C9: 5 | E9: =C9*D9 -> 0 | F9: =ROUND(D9*1.21,2) -> 0 | G9: =F9*C9 -> 0
A10: 6 | B10: Koncový tunel s dřezy | C10: 1 | E10: =C10*D10 -> 0 | F10: =ROUND(D10*1.21,2) -> 0 | G10: =F10*C10 -> 0
A11: 7 | B11: Dřez keramický chemicky odolný | C11: 6 | E11: =C11*D11 -> 0 | F11: =ROUND(D11*1.21,2) -> 0 | G11: =F11*C11 -> 0
A12: 8 | B12: Sifon ke keramickému chemicky odolnému dřezu | C12: 6 | E12: =C12*D12 -> 0 | F12: =ROUND(D12*1.21,2) -> 0 | G12: =F12*C12 -> 0
A13: 9 | B13: Stojánková baterie | C13: 6 | E13: =C13*D13 -> 0 | F13: =ROUND(D13*1.21,2) -> 0 | G13: =F13*C13 -> 0
A14: 10 | B14: Skříň vysoká, částečně prosklená s dvířky | C14: 4 | E14: =C14*D14 -> 0 | F14: =ROUND(D14*1.21,2) -> 0 | G14: =F14*C14 -> 0
A15: 11 | B15: Nástavec skříňový | C15: 4 | E15: =C15*D15 -> 0 | F15: =ROUND(D15*1.21,2) -> 0 | G15: =F15*C15 -> 0
A16: 12 | B16: Skříňová sestava do zděné niky | C16: 1 | E16: =C16*D16 -> 0 | F16: =ROUND(D16*1.21,2) -> 0 | G16: =F16*C16 -> 0
... A20: 16 | B20: Zdroj pro elektromagnetický zámek | C20: 3 | E20: =C20*D20 -> 0 | F20: =ROUND(D20*1.21,2) -> 0 | G20: =F20*C20 -> 0
B21: Celkem | E21: =SUM(E5:E20) -> 0 | G21: =SUM(G5:G20) -> 0

Sheet ZŠ Kar -  uč. informatiky
A1: ZŠ Karlovarská - učebna informatiky
A3: Ozn. | B3: Popis | C3: Počet ks | D3: cena v Kč bez DPH | F3: cena v Kč vč. DPH
D4: kč/ks | E4: celkem | F4: kč/ks | G4: celkem
A5: 1 | B5: Učitelský psací stůl | C5: 1 | E5: =C5*D5 -> 0 | F5: =ROUND(D5*1.21,2) -> 0 | G5: =F5*C5 -> 0
A6: 2 | B6: PC Stůl žákovský, dvoumístný | C6: 6 | E6: =C6*D6 -> 0 | F6: =ROUND(D6*1.21,2) -> 0 | G6: =F6*C6 -> 0
A7: 3 | B7: PC Stůl žákovský, trojmístný | C7: 5 | E7: =C7*D7 -> 0 | F7: =ROUND(D7*1.21,2) -> 0 | G7: =F7*C7 -> 0
A8: 4 | B8: Skříň vysoká | C8: 2 | E8: =C8*D8 -> 0 | F8: =ROUND(D8*1.21,2) -> 0 | G8: =F8*C8 -> 0
A9: 5 | B9: Skříň vysoká, otevřený regál | C9: 1 | E9: =C9*D9 -> 0 | F9: =ROUND(D9*1.21,2) -> 0 | G9: =F9*C9 -> 0
A10: 6 | B10: Skříň nízká | C10: 1 | E10: =C10*D10 -> 0 | F10: =ROUND(D10*1.21,2) -> 0 | G10: =F10*C10 -> 0
A11: 7 | B11: Nástěnný panel na sluchátka | C11: 1 | E11: =C11*D11 -> 0 | F11: =ROUND(D11*1.21,2) -> 0 | G11: =F11*C11 -> 0
A12: 8 | B12: Nástěnka | C12: 2 | E12: =C12*D12 -> 0 | F12: =ROUND(D12*1.21,2) -> 0 | G12: =F12*C12 -> 0
A13: 9 | B13: Stůl trojúhelníkový | C13: 4 | E13: =C13*D13 -> 0 | F13: =ROUND(D13*1.21,2) -> 0 | G13: =F13*C13 -> 0
A14: 10 | B14: Zdroj pro elektromagnetický zámek | C14: 3 | E14: =C14*D14 -> 0 | F14: =ROUND(D14*1.21,2) -> 0 | G14: =F14*C14 -> 0
B15: Celkem | E15: =SUM(E5:E14) -> 0 | G15: =SUM(G5:G14) -> 0

Sheet ZŠ Kar -  jazyková učebna
A1: ZŠ Karlovarská - učebna cizích jazyků
A3: Ozn. | B3: Popis | C3: Počet ks | D3: cena v Kč bez DPH | F3: cena v Kč vč. DPH
D4: kč/ks | E4: celkem | F4: kč/ks | G4: celkem
A5: 1 | B5: Katedra pro učitele | C5: 1 | E5: =C5*D5 -> 0 | F5: =ROUND(D5*1.21,2) -> 0 | G5: =F5*C5 -> 0
A6: 2 | B6: PC Stůl žákovský, dvoumístný | C6: 6 | E6: =C6*D6 -> 0 | F6: =ROUND(D6*1.21,2) -> 0 | G6: =F6*C6 -> 0
A7: 3 | B7: PC Stůl žákovský, trojmístný | C7: 5 | E7: =C7*D7 -> 0 | F7: =ROUND(D7*1.21,2) -> 0 | G7: =F7*C7 -> 0
A8: 4 | B8: Skříň vysoká | C8: 2 | E8: =C8*D8 -> 0 | F8: =ROUND(D8*1.21,2) -> 0 | G8: =F8*C8 -> 0
A9: 5 | B9: Skříň vysoká, otevřený regál | C9: 1 | E9: =C9*D9 -> 0 | F9: =ROUND(D9*1.21,2) -> 0 | G9: =F9*C9 -> 0
A10: 6 | B10: Skříň nízká | C10: 1 | E10: =C10*D10 -> 0 | F10: =ROUND(D10*1.21,2) -> 0 | G10: =F10*C10 -> 0
A11: 7 | B11: Nástěnný panel na sluchátka | C11: 1 | E11: =C11*D11 -> 0 | F11: =ROUND(D11*1.21,2) -> 0 | G11: =F11*C11 -> 0
A12: 8 | B12: Nástěnka | C12: 2 | E12: =C12*D12 -> 0 | F12: =ROUND(D12*1.21,2) -> 0 | G12: =F12*C12 -> 0
A13: 9 | B13: Stůl trojúhelníkový | C13: 3 | E13: =C13*D13 -> 0 | F13: =ROUND(D13*1.21,2) -> 0 | G13: =F13*C13 -> 0
A14: 10 | B14: Zdroj pro elektromagnetický zámek | C14: 3 | E14: =C14*D14 -> 0 | F14: =ROUND(D14*1.21,2) -> 0 | G14: =F14*C14 -> 0
B15: Celkem | E15: =SUM(E5:E14) -> 0 | G15: =SUM(G5:G14) -> 0
